BEGIN:VCALENDAR
VERSION:2.0
PRODID:-//jEvents 2.0 for Joomla//EN
CALSCALE:GREGORIAN
METHOD:PUBLISH
BEGIN:VTIMEZONE
TZID:Europe/Stockholm
BEGIN:STANDARD
DTSTART:20160303T100000
RDATE:20160327T030000
TZOFFSETFROM:+0200
TZOFFSETTO:+0100
TZNAME:Europe/Stockholm CET
END:STANDARD
BEGIN:STANDARD
DTSTART:20161030T020000
RDATE:20170326T030000
TZOFFSETFROM:+0200
TZOFFSETTO:+0100
TZNAME:Europe/Stockholm CET
END:STANDARD
BEGIN:STANDARD
DTSTART:20171029T020000
RDATE:20180325T030000
TZOFFSETFROM:+0200
TZOFFSETTO:+0100
TZNAME:Europe/Stockholm CET
END:STANDARD
BEGIN:STANDARD
DTSTART:20181028T020000
RDATE:20190331T030000
TZOFFSETFROM:+0200
TZOFFSETTO:+0100
TZNAME:Europe/Stockholm CET
END:STANDARD
BEGIN:STANDARD
DTSTART:20191027T020000
RDATE:20200329T030000
TZOFFSETFROM:+0200
TZOFFSETTO:+0100
TZNAME:Europe/Stockholm CET
END:STANDARD
BEGIN:STANDARD
DTSTART:20201025T020000
RDATE:20210328T030000
TZOFFSETFROM:+0200
TZOFFSETTO:+0100
TZNAME:Europe/Stockholm CET
END:STANDARD
BEGIN:STANDARD
DTSTART:20211031T020000
RDATE:20220327T030000
TZOFFSETFROM:+0200
TZOFFSETTO:+0100
TZNAME:Europe/Stockholm CET
END:STANDARD
BEGIN:STANDARD
DTSTART:20221030T020000
RDATE:20230326T030000
TZOFFSETFROM:+0200
TZOFFSETTO:+0100
TZNAME:Europe/Stockholm CET
END:STANDARD
BEGIN:STANDARD
DTSTART:20231029T020000
RDATE:20240331T030000
TZOFFSETFROM:+0200
TZOFFSETTO:+0100
TZNAME:Europe/Stockholm CET
END:STANDARD
BEGIN:STANDARD
DTSTART:20241027T020000
RDATE:20250330T030000
TZOFFSETFROM:+0200
TZOFFSETTO:+0100
TZNAME:Europe/Stockholm CET
END:STANDARD
BEGIN:STANDARD
DTSTART:20251026T020000
RDATE:20260329T030000
TZOFFSETFROM:+0200
TZOFFSETTO:+0100
TZNAME:Europe/Stockholm CET
END:STANDARD
BEGIN:STANDARD
DTSTART:20261025T020000
RDATE:20270328T030000
TZOFFSETFROM:+0200
TZOFFSETTO:+0100
TZNAME:Europe/Stockholm CET
END:STANDARD
BEGIN:STANDARD
DTSTART:20271031T020000
RDATE:20280326T030000
TZOFFSETFROM:+0200
TZOFFSETTO:+0100
TZNAME:Europe/Stockholm CET
END:STANDARD
BEGIN:STANDARD
DTSTART:20281029T020000
RDATE:20290325T030000
TZOFFSETFROM:+0200
TZOFFSETTO:+0100
TZNAME:Europe/Stockholm CET
END:STANDARD
BEGIN:STANDARD
DTSTART:20291028T020000
RDATE:20300331T030000
TZOFFSETFROM:+0200
TZOFFSETTO:+0100
TZNAME:Europe/Stockholm CET
END:STANDARD
BEGIN:STANDARD
DTSTART:20301027T020000
RDATE:20310330T030000
TZOFFSETFROM:+0200
TZOFFSETTO:+0100
TZNAME:Europe/Stockholm CET
END:STANDARD
BEGIN:DAYLIGHT
DTSTART:20160327T030000
RDATE:20161030T020000
TZOFFSETFROM:+0100
TZOFFSETTO:+0200
TZNAME:Europe/Stockholm CEST
END:DAYLIGHT
BEGIN:DAYLIGHT
DTSTART:20170326T030000
RDATE:20171029T020000
TZOFFSETFROM:+0100
TZOFFSETTO:+0200
TZNAME:Europe/Stockholm CEST
END:DAYLIGHT
BEGIN:DAYLIGHT
DTSTART:20180325T030000
RDATE:20181028T020000
TZOFFSETFROM:+0100
TZOFFSETTO:+0200
TZNAME:Europe/Stockholm CEST
END:DAYLIGHT
BEGIN:DAYLIGHT
DTSTART:20190331T030000
RDATE:20191027T020000
TZOFFSETFROM:+0100
TZOFFSETTO:+0200
TZNAME:Europe/Stockholm CEST
END:DAYLIGHT
BEGIN:DAYLIGHT
DTSTART:20200329T030000
RDATE:20201025T020000
TZOFFSETFROM:+0100
TZOFFSETTO:+0200
TZNAME:Europe/Stockholm CEST
END:DAYLIGHT
BEGIN:DAYLIGHT
DTSTART:20210328T030000
RDATE:20211031T020000
TZOFFSETFROM:+0100
TZOFFSETTO:+0200
TZNAME:Europe/Stockholm CEST
END:DAYLIGHT
BEGIN:DAYLIGHT
DTSTART:20220327T030000
RDATE:20221030T020000
TZOFFSETFROM:+0100
TZOFFSETTO:+0200
TZNAME:Europe/Stockholm CEST
END:DAYLIGHT
BEGIN:DAYLIGHT
DTSTART:20230326T030000
RDATE:20231029T020000
TZOFFSETFROM:+0100
TZOFFSETTO:+0200
TZNAME:Europe/Stockholm CEST
END:DAYLIGHT
BEGIN:DAYLIGHT
DTSTART:20240331T030000
RDATE:20241027T020000
TZOFFSETFROM:+0100
TZOFFSETTO:+0200
TZNAME:Europe/Stockholm CEST
END:DAYLIGHT
BEGIN:DAYLIGHT
DTSTART:20250330T030000
RDATE:20251026T020000
TZOFFSETFROM:+0100
TZOFFSETTO:+0200
TZNAME:Europe/Stockholm CEST
END:DAYLIGHT
BEGIN:DAYLIGHT
DTSTART:20260329T030000
RDATE:20261025T020000
TZOFFSETFROM:+0100
TZOFFSETTO:+0200
TZNAME:Europe/Stockholm CEST
END:DAYLIGHT
BEGIN:DAYLIGHT
DTSTART:20270328T030000
RDATE:20271031T020000
TZOFFSETFROM:+0100
TZOFFSETTO:+0200
TZNAME:Europe/Stockholm CEST
END:DAYLIGHT
BEGIN:DAYLIGHT
DTSTART:20280326T030000
RDATE:20281029T020000
TZOFFSETFROM:+0100
TZOFFSETTO:+0200
TZNAME:Europe/Stockholm CEST
END:DAYLIGHT
BEGIN:DAYLIGHT
DTSTART:20290325T030000
RDATE:20291028T020000
TZOFFSETFROM:+0100
TZOFFSETTO:+0200
TZNAME:Europe/Stockholm CEST
END:DAYLIGHT
BEGIN:DAYLIGHT
DTSTART:20300331T030000
RDATE:20301027T020000
TZOFFSETFROM:+0100
TZOFFSETTO:+0200
TZNAME:Europe/Stockholm CEST
END:DAYLIGHT
END:VTIMEZONE
BEGIN:VEVENT
UID:15cf698cb9a0b6b9f1f55a613faf7cde
CATEGORIES:IF-båtförbundet
CREATED:20161207T231626
SUMMARY:Båtmässan "Allt för sjön"
LOCATION:Älvsjömässan
URL;VALUE=URI:https://seglaif.se/kalender/icalrepeat.detail/2017/03/04/19/-/batmaessan-al
 lt-foer-sjoen?tmpl=component
DESCRIPTION:<div class="page-header"><h2 itemprop="headline">IF 50 år & Allt för sjön</
 h2></div><p>Hej seglarkamrater! Vi planerar nu för vår utställning på båtmä
 ssan "Allt för sjön" v10 i Älvsjö. Tanken är att vi ska vara 2 personer sam
 tidigt i montern och representera förbundet och det vi gör. Förbundsstyrels
 en i Sverige har tagit fram 5 hörnstenar som innehållet i mässan ska hålla 
 sig kring. </p><p><strong>Äventyr tillsammans</strong><br />Svenska IF-förb
 undet är ett socialt nätverk. Vi hjälps åt, delar kunskap och blir vänner. 
 Förtroendet är stort och medlemmar hyr och lånar båtar av varandra för att 
 segla andra kuster. Vårt förbund stimulerar detta vid SM- tävlingar. Vi vil
 l visa att människor upplever gemenskap i IF-båten och att klassförbundet ö
 ppnar för nya kontakter och äventyr.</p><p><strong>Segla bättre med oss</st
 rong><br />Vårt klassförbund vill bredda segelsporten och göra den tillgäng
 lig för en bred målgrupp. Förutsättningarna finns i båtens konstruktion som
  gör den hanterbar för människor med olika fysisk förmåga. Förbundets öppna
  attityd bidrar till att seglare på olika nivåer och med olika bakgrund, ål
 der och kön får uppleva segelsport tillsammans. På mässan vill vi berätta o
 m hur vi i förbundet hjälps åt, delar kunskap och med egna medel utbildar v
 arandra i hur man seglar en IF-båt. Vi vill också visa hur bra båten är för
  familjesegling och att den också används i lokala klubbars utbildningsverk
 samhet i Sverige.</p><p><strong>Segelsport på bredden</strong><br />IF-båte
 ns goda kvalité, jämförelsevis låga pris och omkostnader skapar förutsättni
 ngar för många seglare att ägna sig åt segelsport. Båtarna är jämlika, mate
 rial och utrustning regleras av klassregler. Alla ägare kan byta och använd
 a egen utrustning på olika båtar. Standarden gör kostnaden för kappsegling 
 jämförelsevis låg. På mässan vill vi berätta om vår kappsegling, om ekonomi
 n för att köpa, äga och segla IF-båt samt om kraven för att mäta in en båt 
 enligt klassregeln. Vi vill också visa enkla och smarta lösningar som IF-se
 glare själva gör.</p><p><strong>Delad kunskap</strong><br />I vår medlemsti
 dning Medvind och vårt internationella IF-forum online, delar IF-seglare i 
 hela världen kunskap och erfarenhet. Våra medlemmar är experter på IF-båten
  och kommer att vara tillgängliga på mässan.</p><p><strong>Ett enklare båtl
 iv</strong><br />I ett hållbart samhälle använder allt fler saker från förr
 . IF-båtens klassiska linjer och robusta konstruktion har ett tydligt arv f
 rån 60- och 70-talen som håller än idag. Vår kappsegling ligger i tiden. Vi
  vill tillsammans med Sjöhistoriska muséet visa hur IF-båten används i nuti
 d, berätta om arv och historia och inspirera till segling för en bred målgr
 upp i framtiden.</p> <a href="https://seglaif.se/kalender/icalrepeat.detail
 /2017/03/04/19/-/batmaessan-allt-foer-sjoen?tmpl=component">This event was 
 imported from: https://seglaif.se/kalender/icalrepeat.detail/2017/03/04/19/
 -/batmaessan-allt-foer-sjoen?tmpl=component</a>CONTACT:Martin Rundström, Martin Graden, Olle Malmberg
DTSTAMP:20260422T054533
DTSTART;TZID=Europe/Stockholm:20170304T100000
DTEND;TZID=Europe/Stockholm:20170312T180000
SEQUENCE:0
TRANSP:OPAQUE
END:VEVENT
END:VCALENDAR