BEGIN:VCALENDAR
VERSION:2.0
PRODID:-//jEvents 2.0 for Joomla//EN
CALSCALE:GREGORIAN
METHOD:PUBLISH
BEGIN:VTIMEZONE
TZID:Europe/Stockholm
BEGIN:STANDARD
DTSTART:20210222T193000
RDATE:20210328T030000
TZOFFSETFROM:+0200
TZOFFSETTO:+0100
TZNAME:Europe/Stockholm CET
END:STANDARD
BEGIN:STANDARD
DTSTART:20211031T020000
RDATE:20220327T030000
TZOFFSETFROM:+0200
TZOFFSETTO:+0100
TZNAME:Europe/Stockholm CET
END:STANDARD
BEGIN:STANDARD
DTSTART:20221030T020000
RDATE:20230326T030000
TZOFFSETFROM:+0200
TZOFFSETTO:+0100
TZNAME:Europe/Stockholm CET
END:STANDARD
BEGIN:STANDARD
DTSTART:20231029T020000
RDATE:20240331T030000
TZOFFSETFROM:+0200
TZOFFSETTO:+0100
TZNAME:Europe/Stockholm CET
END:STANDARD
BEGIN:STANDARD
DTSTART:20241027T020000
RDATE:20250330T030000
TZOFFSETFROM:+0200
TZOFFSETTO:+0100
TZNAME:Europe/Stockholm CET
END:STANDARD
BEGIN:STANDARD
DTSTART:20251026T020000
RDATE:20260329T030000
TZOFFSETFROM:+0200
TZOFFSETTO:+0100
TZNAME:Europe/Stockholm CET
END:STANDARD
BEGIN:STANDARD
DTSTART:20261025T020000
RDATE:20270328T030000
TZOFFSETFROM:+0200
TZOFFSETTO:+0100
TZNAME:Europe/Stockholm CET
END:STANDARD
BEGIN:STANDARD
DTSTART:20271031T020000
RDATE:20280326T030000
TZOFFSETFROM:+0200
TZOFFSETTO:+0100
TZNAME:Europe/Stockholm CET
END:STANDARD
BEGIN:STANDARD
DTSTART:20281029T020000
RDATE:20290325T030000
TZOFFSETFROM:+0200
TZOFFSETTO:+0100
TZNAME:Europe/Stockholm CET
END:STANDARD
BEGIN:STANDARD
DTSTART:20291028T020000
RDATE:20300331T030000
TZOFFSETFROM:+0200
TZOFFSETTO:+0100
TZNAME:Europe/Stockholm CET
END:STANDARD
BEGIN:STANDARD
DTSTART:20301027T020000
RDATE:20310330T030000
TZOFFSETFROM:+0200
TZOFFSETTO:+0100
TZNAME:Europe/Stockholm CET
END:STANDARD
BEGIN:DAYLIGHT
DTSTART:20210328T030000
RDATE:20211031T020000
TZOFFSETFROM:+0100
TZOFFSETTO:+0200
TZNAME:Europe/Stockholm CEST
END:DAYLIGHT
BEGIN:DAYLIGHT
DTSTART:20220327T030000
RDATE:20221030T020000
TZOFFSETFROM:+0100
TZOFFSETTO:+0200
TZNAME:Europe/Stockholm CEST
END:DAYLIGHT
BEGIN:DAYLIGHT
DTSTART:20230326T030000
RDATE:20231029T020000
TZOFFSETFROM:+0100
TZOFFSETTO:+0200
TZNAME:Europe/Stockholm CEST
END:DAYLIGHT
BEGIN:DAYLIGHT
DTSTART:20240331T030000
RDATE:20241027T020000
TZOFFSETFROM:+0100
TZOFFSETTO:+0200
TZNAME:Europe/Stockholm CEST
END:DAYLIGHT
BEGIN:DAYLIGHT
DTSTART:20250330T030000
RDATE:20251026T020000
TZOFFSETFROM:+0100
TZOFFSETTO:+0200
TZNAME:Europe/Stockholm CEST
END:DAYLIGHT
BEGIN:DAYLIGHT
DTSTART:20260329T030000
RDATE:20261025T020000
TZOFFSETFROM:+0100
TZOFFSETTO:+0200
TZNAME:Europe/Stockholm CEST
END:DAYLIGHT
BEGIN:DAYLIGHT
DTSTART:20270328T030000
RDATE:20271031T020000
TZOFFSETFROM:+0100
TZOFFSETTO:+0200
TZNAME:Europe/Stockholm CEST
END:DAYLIGHT
BEGIN:DAYLIGHT
DTSTART:20280326T030000
RDATE:20281029T020000
TZOFFSETFROM:+0100
TZOFFSETTO:+0200
TZNAME:Europe/Stockholm CEST
END:DAYLIGHT
BEGIN:DAYLIGHT
DTSTART:20290325T030000
RDATE:20291028T020000
TZOFFSETFROM:+0100
TZOFFSETTO:+0200
TZNAME:Europe/Stockholm CEST
END:DAYLIGHT
BEGIN:DAYLIGHT
DTSTART:20300331T030000
RDATE:20301027T020000
TZOFFSETFROM:+0100
TZOFFSETTO:+0200
TZNAME:Europe/Stockholm CEST
END:DAYLIGHT
END:VTIMEZONE
BEGIN:VEVENT
UID:a18f9486eb7f3a926fe06c6daf6b2d27
CATEGORIES:IF-båtförbundet
CREATED:20220104T142618
SUMMARY:IF-båtförbundets årsmöte 2022
URL;VALUE=URI:https://seglaif.se/kalender/icalrepeat.detail/2022/02/23/215/-/if-batfoerbu
 ndets-arsmoete-2022?tmpl=component
DESCRIPTION:<p>Elektroniskt distansmöte på Zoom.</p><div>Dagordning<br /><br />1. Mötet
 s öppnande.<br />2.&nbsp;Val av ordförande och sekreterare för mötet.<br />
 3. Val av 2 justeringsmän, tillika rösträknare.<br />4. Registrering av rös
 tberättigade deltagare.<br />5. Frågan om mötets behöriga utlysande.<br />6
 . Registrering av inkomna poströster.<br />7. Fastställande av dagordningen
  och anmälan av ”Övriga frågor”.<br />8. Föredragning av verksamhetsberätte
 lse, ekonomisk redovisning och revisionsberättelse.<br />9 .Disposition av 
 årets vinst.<br />10.Fråga om ansvarsfrihet för styrelsen.<br />11.Val av s
 tyrelseledamöter. Valet gäller ordförande på 1 år samt 2 övriga på 2 år.<br
  />12.Val av två revisorer och en revisorssuppleant.<br />13.Val av valbere
 dning.<br />14.Medlemsavgifternas storlek. Styrelsen föreslår oförändrade a
 vgifter.<br />15.Styrelsens förslag till ändring av klassreglerna F 3.7(f) 
 enligt text på röstsedeln.<br />16.Styrelsens förslag till ändring av stadg
 arna § 4 stycke 1 och 4.<br />17.Fastställande av riktlinjer för årets verk
 samhet.<br />18.Övriga frågor.<br />19.Mötet avslutas<br /><br />Obs! Instr
 uktioner för poströstning finns på den bifogade röstsedeln.<br /><br />Möte
 shandlingar bifogas.<br /><br />För att ansluta till årsmötet, välj en av d
 essa metoder:<br /><br />Metod 1: använd länken Online URL&nbsp;<a href="ht
 tps://gu-se.zoom.us/j/61001426380?pwd=Nk5rMEN6VnVHMUxCbWNwTzkxaEcwdz09" dat
 a-cke-saved-href="https://gu-se.zoom.us/j/61001426380?pwd=Nk5rMEN6VnVHMUxCb
 WNwTzkxaEcwdz09"></a><a href="https://gu-se.zoom.us/j/61001426380?pwd=Nk5rM
 EN6VnVHMUxCbWNwTzkxaEcwdz09">https://gu-se.zoom.us/j/61001426380?pwd=Nk5rME
 N6VnVHMUxCbWNwTzkxaEcwdz09</a><br /><br />Metod 2: starta Zoom och anslut m
 ed Meeting ID och Passcode som finns angivet i möteshandlingarna.<br /><br 
 />Logga in några minuter före och vänta på att Karin öppnar mötet.</div> <a
  href="https://seglaif.se/kalender/icalrepeat.detail/2022/02/23/215/-/if-ba
 tfoerbundets-arsmoete-2022?tmpl=component">This event was imported from: ht
 tps://seglaif.se/kalender/icalrepeat.detail/2022/02/23/215/-/if-batfoerbund
 ets-arsmoete-2022?tmpl=component</a>CONTACT:Karin Hårding 076-6183644
X-EXTRAINFO:Klicka på länken Online URL eller kopiera och klistra in den i din webbläsa
 re. Därefter välj ”Join meeting”. Ingen installation ska behövas. Logga in 
 några minuter före och vänta på att Karin öppnar mötet.\n\nMeeting ID: 610 
 0142 6380\nPasscode: 002331\n\nRing: Karin Hårding 076-6183644 om det skull
 e krångla.\n
DTSTAMP:20260421T174523
DTSTART;TZID=Europe/Stockholm:20220223T193000
DTEND;TZID=Europe/Stockholm:20220223T210000
SEQUENCE:0
TRANSP:OPAQUE
END:VEVENT
END:VCALENDAR