BEGIN:VCALENDAR
VERSION:2.0
PRODID:-//jEvents 2.0 for Joomla//EN
CALSCALE:GREGORIAN
METHOD:PUBLISH
BEGIN:VTIMEZONE
TZID:Europe/Stockholm
BEGIN:STANDARD
DTSTART:20241107T183000
RDATE:20250330T030000
TZOFFSETFROM:+0200
TZOFFSETTO:+0100
TZNAME:Europe/Stockholm CET
END:STANDARD
BEGIN:STANDARD
DTSTART:20251026T020000
RDATE:20260329T030000
TZOFFSETFROM:+0200
TZOFFSETTO:+0100
TZNAME:Europe/Stockholm CET
END:STANDARD
BEGIN:STANDARD
DTSTART:20261025T020000
RDATE:20270328T030000
TZOFFSETFROM:+0200
TZOFFSETTO:+0100
TZNAME:Europe/Stockholm CET
END:STANDARD
BEGIN:STANDARD
DTSTART:20271031T020000
RDATE:20280326T030000
TZOFFSETFROM:+0200
TZOFFSETTO:+0100
TZNAME:Europe/Stockholm CET
END:STANDARD
BEGIN:STANDARD
DTSTART:20281029T020000
RDATE:20290325T030000
TZOFFSETFROM:+0200
TZOFFSETTO:+0100
TZNAME:Europe/Stockholm CET
END:STANDARD
BEGIN:STANDARD
DTSTART:20291028T020000
RDATE:20300331T030000
TZOFFSETFROM:+0200
TZOFFSETTO:+0100
TZNAME:Europe/Stockholm CET
END:STANDARD
BEGIN:STANDARD
DTSTART:20301027T020000
RDATE:20310330T030000
TZOFFSETFROM:+0200
TZOFFSETTO:+0100
TZNAME:Europe/Stockholm CET
END:STANDARD
BEGIN:DAYLIGHT
DTSTART:20250330T030000
RDATE:20251026T020000
TZOFFSETFROM:+0100
TZOFFSETTO:+0200
TZNAME:Europe/Stockholm CEST
END:DAYLIGHT
BEGIN:DAYLIGHT
DTSTART:20260329T030000
RDATE:20261025T020000
TZOFFSETFROM:+0100
TZOFFSETTO:+0200
TZNAME:Europe/Stockholm CEST
END:DAYLIGHT
BEGIN:DAYLIGHT
DTSTART:20270328T030000
RDATE:20271031T020000
TZOFFSETFROM:+0100
TZOFFSETTO:+0200
TZNAME:Europe/Stockholm CEST
END:DAYLIGHT
BEGIN:DAYLIGHT
DTSTART:20280326T030000
RDATE:20281029T020000
TZOFFSETFROM:+0100
TZOFFSETTO:+0200
TZNAME:Europe/Stockholm CEST
END:DAYLIGHT
BEGIN:DAYLIGHT
DTSTART:20290325T030000
RDATE:20291028T020000
TZOFFSETFROM:+0100
TZOFFSETTO:+0200
TZNAME:Europe/Stockholm CEST
END:DAYLIGHT
BEGIN:DAYLIGHT
DTSTART:20300331T030000
RDATE:20301027T020000
TZOFFSETFROM:+0100
TZOFFSETTO:+0200
TZNAME:Europe/Stockholm CEST
END:DAYLIGHT
END:VTIMEZONE
BEGIN:VEVENT
UID:17e513e9c7cb7152bcaf5a6b51a4a4c4
CATEGORIES:VIF
CREATED:20251012T100559
SUMMARY:VIF Höstfest
GEO:11.85075951;57.67098999
LOCATION:Långedrags Segelsällskap - Solhöjdsgatan 16\, Västra Frölunda\, \, 426 76\,
  Sweden
URL;VALUE=URI:https://seglaif.se/kalender/icalrepeat.detail/2025/11/08/318/-/vif-hoestfes
 t-geo-11-85075951-57-67098999?tmpl=component
DESCRIPTION:<p><br />Hösten har tagit sitt grepp om Västkusten. Skogen färgas i vackra 
 toner och vinden ruskar på havet. Vad är då bättre än att samlas med gamla 
 och nya vänner, äta gott och prata om sommarens äventyr och världens bästa 
 båt?<br /><br />Nya IF-seglare är speciellt välkomna!<br />Denna kväll är e
 tt utmärkt tillfälle för att skapa nya bekantskap och för att lära sig allt
  och lite till om IF-båtens egenheter.&nbsp;<br /><br /><strong>I bifogad i
 nbjudan längre ner finns all information om tid, plats, mat, anmälan osv.</
 strong><br /><br />Hjärtligt välkomna, ta med familjen, besättning, IF-vänn
 er mm!<br /><br />//Styrelsen för Västkustens IF-båtklubb.</p> <a href="htt
 ps://seglaif.se/kalender/icalrepeat.detail/2025/11/08/318/-/vif-hoestfest-g
 eo-11-85075951-57-67098999?tmpl=component">This event was imported from: ht
 tps://seglaif.se/kalender/icalrepeat.detail/2025/11/08/318/-/vif-hoestfest-
 geo-11-85075951-57-67098999?tmpl=component</a>CONTACT:Joop Somhorst
X-EXTRAINFO:Den här e-postadressen skyddas mot spambots. Du måste tillåta JavaScript fö
 r att se den.\n073-9028110
DTSTAMP:20260421T022607
DTSTART;TZID=Europe/Stockholm:20251108T183000
SEQUENCE:0
TRANSP:OPAQUE
END:VEVENT
END:VCALENDAR