BEGIN:VCALENDAR
VERSION:2.0
PRODID:-//jEvents 2.0 for Joomla//EN
CALSCALE:GREGORIAN
METHOD:PUBLISH
BEGIN:VTIMEZONE
TZID:Europe/Stockholm
BEGIN:STANDARD
DTSTART:20170310T110000
RDATE:20170326T030000
TZOFFSETFROM:+0200
TZOFFSETTO:+0100
TZNAME:Europe/Stockholm CET
END:STANDARD
BEGIN:STANDARD
DTSTART:20171029T020000
RDATE:20180325T030000
TZOFFSETFROM:+0200
TZOFFSETTO:+0100
TZNAME:Europe/Stockholm CET
END:STANDARD
BEGIN:STANDARD
DTSTART:20181028T020000
RDATE:20190331T030000
TZOFFSETFROM:+0200
TZOFFSETTO:+0100
TZNAME:Europe/Stockholm CET
END:STANDARD
BEGIN:STANDARD
DTSTART:20191027T020000
RDATE:20200329T030000
TZOFFSETFROM:+0200
TZOFFSETTO:+0100
TZNAME:Europe/Stockholm CET
END:STANDARD
BEGIN:STANDARD
DTSTART:20201025T020000
RDATE:20210328T030000
TZOFFSETFROM:+0200
TZOFFSETTO:+0100
TZNAME:Europe/Stockholm CET
END:STANDARD
BEGIN:STANDARD
DTSTART:20211031T020000
RDATE:20220327T030000
TZOFFSETFROM:+0200
TZOFFSETTO:+0100
TZNAME:Europe/Stockholm CET
END:STANDARD
BEGIN:STANDARD
DTSTART:20221030T020000
RDATE:20230326T030000
TZOFFSETFROM:+0200
TZOFFSETTO:+0100
TZNAME:Europe/Stockholm CET
END:STANDARD
BEGIN:STANDARD
DTSTART:20231029T020000
RDATE:20240331T030000
TZOFFSETFROM:+0200
TZOFFSETTO:+0100
TZNAME:Europe/Stockholm CET
END:STANDARD
BEGIN:STANDARD
DTSTART:20241027T020000
RDATE:20250330T030000
TZOFFSETFROM:+0200
TZOFFSETTO:+0100
TZNAME:Europe/Stockholm CET
END:STANDARD
BEGIN:STANDARD
DTSTART:20251026T020000
RDATE:20260329T030000
TZOFFSETFROM:+0200
TZOFFSETTO:+0100
TZNAME:Europe/Stockholm CET
END:STANDARD
BEGIN:STANDARD
DTSTART:20261025T020000
RDATE:20270328T030000
TZOFFSETFROM:+0200
TZOFFSETTO:+0100
TZNAME:Europe/Stockholm CET
END:STANDARD
BEGIN:STANDARD
DTSTART:20271031T020000
RDATE:20280326T030000
TZOFFSETFROM:+0200
TZOFFSETTO:+0100
TZNAME:Europe/Stockholm CET
END:STANDARD
BEGIN:STANDARD
DTSTART:20281029T020000
RDATE:20290325T030000
TZOFFSETFROM:+0200
TZOFFSETTO:+0100
TZNAME:Europe/Stockholm CET
END:STANDARD
BEGIN:STANDARD
DTSTART:20291028T020000
RDATE:20300331T030000
TZOFFSETFROM:+0200
TZOFFSETTO:+0100
TZNAME:Europe/Stockholm CET
END:STANDARD
BEGIN:STANDARD
DTSTART:20301027T020000
RDATE:20310330T030000
TZOFFSETFROM:+0200
TZOFFSETTO:+0100
TZNAME:Europe/Stockholm CET
END:STANDARD
BEGIN:DAYLIGHT
DTSTART:20170326T030000
RDATE:20171029T020000
TZOFFSETFROM:+0100
TZOFFSETTO:+0200
TZNAME:Europe/Stockholm CEST
END:DAYLIGHT
BEGIN:DAYLIGHT
DTSTART:20180325T030000
RDATE:20181028T020000
TZOFFSETFROM:+0100
TZOFFSETTO:+0200
TZNAME:Europe/Stockholm CEST
END:DAYLIGHT
BEGIN:DAYLIGHT
DTSTART:20190331T030000
RDATE:20191027T020000
TZOFFSETFROM:+0100
TZOFFSETTO:+0200
TZNAME:Europe/Stockholm CEST
END:DAYLIGHT
BEGIN:DAYLIGHT
DTSTART:20200329T030000
RDATE:20201025T020000
TZOFFSETFROM:+0100
TZOFFSETTO:+0200
TZNAME:Europe/Stockholm CEST
END:DAYLIGHT
BEGIN:DAYLIGHT
DTSTART:20210328T030000
RDATE:20211031T020000
TZOFFSETFROM:+0100
TZOFFSETTO:+0200
TZNAME:Europe/Stockholm CEST
END:DAYLIGHT
BEGIN:DAYLIGHT
DTSTART:20220327T030000
RDATE:20221030T020000
TZOFFSETFROM:+0100
TZOFFSETTO:+0200
TZNAME:Europe/Stockholm CEST
END:DAYLIGHT
BEGIN:DAYLIGHT
DTSTART:20230326T030000
RDATE:20231029T020000
TZOFFSETFROM:+0100
TZOFFSETTO:+0200
TZNAME:Europe/Stockholm CEST
END:DAYLIGHT
BEGIN:DAYLIGHT
DTSTART:20240331T030000
RDATE:20241027T020000
TZOFFSETFROM:+0100
TZOFFSETTO:+0200
TZNAME:Europe/Stockholm CEST
END:DAYLIGHT
BEGIN:DAYLIGHT
DTSTART:20250330T030000
RDATE:20251026T020000
TZOFFSETFROM:+0100
TZOFFSETTO:+0200
TZNAME:Europe/Stockholm CEST
END:DAYLIGHT
BEGIN:DAYLIGHT
DTSTART:20260329T030000
RDATE:20261025T020000
TZOFFSETFROM:+0100
TZOFFSETTO:+0200
TZNAME:Europe/Stockholm CEST
END:DAYLIGHT
BEGIN:DAYLIGHT
DTSTART:20270328T030000
RDATE:20271031T020000
TZOFFSETFROM:+0100
TZOFFSETTO:+0200
TZNAME:Europe/Stockholm CEST
END:DAYLIGHT
BEGIN:DAYLIGHT
DTSTART:20280326T030000
RDATE:20281029T020000
TZOFFSETFROM:+0100
TZOFFSETTO:+0200
TZNAME:Europe/Stockholm CEST
END:DAYLIGHT
BEGIN:DAYLIGHT
DTSTART:20290325T030000
RDATE:20291028T020000
TZOFFSETFROM:+0100
TZOFFSETTO:+0200
TZNAME:Europe/Stockholm CEST
END:DAYLIGHT
BEGIN:DAYLIGHT
DTSTART:20300331T030000
RDATE:20301027T020000
TZOFFSETFROM:+0100
TZOFFSETTO:+0200
TZNAME:Europe/Stockholm CEST
END:DAYLIGHT
END:VTIMEZONE
BEGIN:VEVENT
UID:3106606534e6e8ace32c3576ed678f0d
CATEGORIES:OIF
CREATED:20180221T130117
SUMMARY:Årsmöte Ostkustens IF-båtklubb
GEO:18.014925;59.27728271
LOCATION:Stockholms-Mässan - Mässvägen 1\, Älvsjö\, \, 125 80\, 
URL;VALUE=URI:https://seglaif.se/kalender/icalrepeat.detail/2018/03/11/36/-/arsmoete-ostk
 ustens-if-batklubb-geo-18-014925-59-27728271?tmpl=component
DESCRIPTION:<p>Hej!&nbsp; Här är kallelse till årsmötet i Pdf-format. Den kommer också 
 per post...</p><p><a href="images/articles/OIF/arsmoteshandlingar/OIF_kalle
 lse_%C3%A5rsm%C3%B6te_2018.pdf">&gt;&gt; OIF Kallelse Årsmöte 2018 Pdf</a><
 /p><p>För att läsa Möteshandlingarna ska du logga in som "medlem" med det l
 ösenord vi skickade tillsammans med fakturan vid årsskiftet. När du är inlo
 ggad gå till OIF-sidan och där kommer då "Årsmöteshandlingar 2018" med Verk
 samhetsberättelse + Ekonomisk berättelse mm att visas.</p><p>Vi kommer skic
 ka framtida kallelser via e-post. Vill du få utskick med vanlig post så med
 dela oss det så skickar vi kallesen per post även i fortsättningen. Välkomm
 en!</p><p>Hälsningar OIF Styrelse genom Martin Rundström ordf&nbsp;<br /><s
 pan id="cloak799124eddc8fab74fe42651b68dbc5b8"><joomla-hidden-mail  is-link
 ="1" is-email="1" first="bWFydGluLmIucnVuZHN0cm9t" last="Z21haWwuY29t" text
 ="bWFydGluLmIucnVuZHN0cm9tQGdtYWlsLmNvbQ==" base="" >Den här e-postadressen
  skyddas mot spambots. Du måste tillåta JavaScript för att se den.</joomla-
 hidden-mail></span></p><div class="jcomments-links"><a href="hem/oif/103-oi
 f-arsmoete-180311#addcomments" class="comments-link" title="Skriv ny kommen
 tar">Skriv ny kommentar</a></div><dl class="article-info muted"><dt class="
 article-info-term"></dt><dd class="createdby" itemscope="itemscope" itemtyp
 e="https://schema.org/Person" itemprop="author">Skriven av <span itemprop="
 name">Martin Rundström</span></dd></dl> <a href="https://seglaif.se/kalende
 r/icalrepeat.detail/2018/03/11/36/-/arsmoete-ostkustens-if-batklubb-geo-18-
 014925-59-27728271?tmpl=component">This event was imported from: https://se
 glaif.se/kalender/icalrepeat.detail/2018/03/11/36/-/arsmoete-ostkustens-if-
 batklubb-geo-18-014925-59-27728271?tmpl=component</a>
X-ALT-DESC;FMTTYPE=text/html:<p>Hej!&nbsp; Här är kallelse till årsmötet i Pdf-format. Den kommer också 
 per post...</p><p><a href="https://seglaif.se/images/articles/OIF/arsmotesh
 andlingar/OIF_kallelse_%C3%A5rsm%C3%B6te_2018.pdf">&gt;&gt; OIF Kallelse År
 smöte 2018 Pdf</a></p><p>För att läsa Möteshandlingarna ska du logga in som
  "medlem" med det lösenord vi skickade tillsammans med fakturan vid årsskif
 tet. När du är inloggad gå till OIF-sidan och där kommer då "Årsmöteshandli
 ngar 2018" med Verksamhetsberättelse + Ekonomisk berättelse mm att visas.</
 p><p>Vi kommer skicka framtida kallelser via e-post. Vill du få utskick med
  vanlig post så meddela oss det så skickar vi kallesen per post även i fort
 sättningen. Välkommen!</p><p>Hälsningar OIF Styrelse genom Martin Rundström
  ordf&nbsp;<br /><span id="cloak799124eddc8fab74fe42651b68dbc5b8"><joomla-h
 idden-mail  is-link="1" is-email="1" first="bWFydGluLmIucnVuZHN0cm9t" last=
 "Z21haWwuY29t" text="bWFydGluLmIucnVuZHN0cm9tQGdtYWlsLmNvbQ==" base="" >Den
  här e-postadressen skyddas mot spambots. Du måste tillåta JavaScript för a
 tt se den.</joomla-hidden-mail></span></p><div class="jcomments-links"><a h
 ref="https://seglaif.se/hem/oif/103-oif-arsmoete-180311#addcomments" class=
 "comments-link" title="Skriv ny kommentar">Skriv ny kommentar</a></div><dl 
 class="article-info muted"><dt class="article-info-term"></dt><dd class="cr
 eatedby" itemscope="itemscope" itemtype="https://schema.org/Person" itempro
 p="author">Skriven av <span itemprop="name">Martin Rundström</span></dd></d
 l> <a href="https://seglaif.se/kalender/icalrepeat.detail/2018/03/11/36/-/a
 rsmoete-ostkustens-if-batklubb-geo-18-014925-59-27728271?tmpl=component">Th
 is event was imported from: https://seglaif.se/kalender/icalrepeat.detail/2
 018/03/11/36/-/arsmoete-ostkustens-if-batklubb-geo-18-014925-59-27728271?tm
 pl=component</a>CONTACT:Martin Rundström
DTSTAMP:20260422T054748
DTSTART;TZID=Europe/Stockholm:20180311T110000
DTEND;TZID=Europe/Stockholm:20180311T120000
SEQUENCE:0
TRANSP:OPAQUE
END:VEVENT
END:VCALENDAR