BEGIN:VCALENDAR
VERSION:2.0
PRODID:-//jEvents 2.0 for Joomla//EN
CALSCALE:GREGORIAN
METHOD:PUBLISH
BEGIN:VTIMEZONE
TZID:Europe/Stockholm
BEGIN:STANDARD
DTSTART:20190131T130000
RDATE:20190331T030000
TZOFFSETFROM:+0200
TZOFFSETTO:+0100
TZNAME:Europe/Stockholm CET
END:STANDARD
BEGIN:STANDARD
DTSTART:20191027T020000
RDATE:20200329T030000
TZOFFSETFROM:+0200
TZOFFSETTO:+0100
TZNAME:Europe/Stockholm CET
END:STANDARD
BEGIN:STANDARD
DTSTART:20201025T020000
RDATE:20210328T030000
TZOFFSETFROM:+0200
TZOFFSETTO:+0100
TZNAME:Europe/Stockholm CET
END:STANDARD
BEGIN:STANDARD
DTSTART:20211031T020000
RDATE:20220327T030000
TZOFFSETFROM:+0200
TZOFFSETTO:+0100
TZNAME:Europe/Stockholm CET
END:STANDARD
BEGIN:STANDARD
DTSTART:20221030T020000
RDATE:20230326T030000
TZOFFSETFROM:+0200
TZOFFSETTO:+0100
TZNAME:Europe/Stockholm CET
END:STANDARD
BEGIN:STANDARD
DTSTART:20231029T020000
RDATE:20240331T030000
TZOFFSETFROM:+0200
TZOFFSETTO:+0100
TZNAME:Europe/Stockholm CET
END:STANDARD
BEGIN:STANDARD
DTSTART:20241027T020000
RDATE:20250330T030000
TZOFFSETFROM:+0200
TZOFFSETTO:+0100
TZNAME:Europe/Stockholm CET
END:STANDARD
BEGIN:STANDARD
DTSTART:20251026T020000
RDATE:20260329T030000
TZOFFSETFROM:+0200
TZOFFSETTO:+0100
TZNAME:Europe/Stockholm CET
END:STANDARD
BEGIN:STANDARD
DTSTART:20261025T020000
RDATE:20270328T030000
TZOFFSETFROM:+0200
TZOFFSETTO:+0100
TZNAME:Europe/Stockholm CET
END:STANDARD
BEGIN:STANDARD
DTSTART:20271031T020000
RDATE:20280326T030000
TZOFFSETFROM:+0200
TZOFFSETTO:+0100
TZNAME:Europe/Stockholm CET
END:STANDARD
BEGIN:STANDARD
DTSTART:20281029T020000
RDATE:20290325T030000
TZOFFSETFROM:+0200
TZOFFSETTO:+0100
TZNAME:Europe/Stockholm CET
END:STANDARD
BEGIN:STANDARD
DTSTART:20291028T020000
RDATE:20300331T030000
TZOFFSETFROM:+0200
TZOFFSETTO:+0100
TZNAME:Europe/Stockholm CET
END:STANDARD
BEGIN:STANDARD
DTSTART:20301027T020000
RDATE:20310330T030000
TZOFFSETFROM:+0200
TZOFFSETTO:+0100
TZNAME:Europe/Stockholm CET
END:STANDARD
BEGIN:DAYLIGHT
DTSTART:20190331T030000
RDATE:20191027T020000
TZOFFSETFROM:+0100
TZOFFSETTO:+0200
TZNAME:Europe/Stockholm CEST
END:DAYLIGHT
BEGIN:DAYLIGHT
DTSTART:20200329T030000
RDATE:20201025T020000
TZOFFSETFROM:+0100
TZOFFSETTO:+0200
TZNAME:Europe/Stockholm CEST
END:DAYLIGHT
BEGIN:DAYLIGHT
DTSTART:20210328T030000
RDATE:20211031T020000
TZOFFSETFROM:+0100
TZOFFSETTO:+0200
TZNAME:Europe/Stockholm CEST
END:DAYLIGHT
BEGIN:DAYLIGHT
DTSTART:20220327T030000
RDATE:20221030T020000
TZOFFSETFROM:+0100
TZOFFSETTO:+0200
TZNAME:Europe/Stockholm CEST
END:DAYLIGHT
BEGIN:DAYLIGHT
DTSTART:20230326T030000
RDATE:20231029T020000
TZOFFSETFROM:+0100
TZOFFSETTO:+0200
TZNAME:Europe/Stockholm CEST
END:DAYLIGHT
BEGIN:DAYLIGHT
DTSTART:20240331T030000
RDATE:20241027T020000
TZOFFSETFROM:+0100
TZOFFSETTO:+0200
TZNAME:Europe/Stockholm CEST
END:DAYLIGHT
BEGIN:DAYLIGHT
DTSTART:20250330T030000
RDATE:20251026T020000
TZOFFSETFROM:+0100
TZOFFSETTO:+0200
TZNAME:Europe/Stockholm CEST
END:DAYLIGHT
BEGIN:DAYLIGHT
DTSTART:20260329T030000
RDATE:20261025T020000
TZOFFSETFROM:+0100
TZOFFSETTO:+0200
TZNAME:Europe/Stockholm CEST
END:DAYLIGHT
BEGIN:DAYLIGHT
DTSTART:20270328T030000
RDATE:20271031T020000
TZOFFSETFROM:+0100
TZOFFSETTO:+0200
TZNAME:Europe/Stockholm CEST
END:DAYLIGHT
BEGIN:DAYLIGHT
DTSTART:20280326T030000
RDATE:20281029T020000
TZOFFSETFROM:+0100
TZOFFSETTO:+0200
TZNAME:Europe/Stockholm CEST
END:DAYLIGHT
BEGIN:DAYLIGHT
DTSTART:20290325T030000
RDATE:20291028T020000
TZOFFSETFROM:+0100
TZOFFSETTO:+0200
TZNAME:Europe/Stockholm CEST
END:DAYLIGHT
BEGIN:DAYLIGHT
DTSTART:20300331T030000
RDATE:20301027T020000
TZOFFSETFROM:+0100
TZOFFSETTO:+0200
TZNAME:Europe/Stockholm CEST
END:DAYLIGHT
END:VTIMEZONE
BEGIN:VEVENT
UID:375688295bd54dc152a17c1d4a303819
CATEGORIES:IF-båtförbundet
CREATED:20200104T100811
SUMMARY:IF-båtförbundets årsmöte
GEO:11.9654026;57.71273041
LOCATION:Barken Viking - Lilla Bommens Torg 10\, Göteborg\, \, 41104\, Sweden
URL;VALUE=URI:https://seglaif.se/kalender/icalrepeat.detail/2020/02/01/94/-/if-batfoerbun
 dets-arsmoete-geo-11-9654026-57-71273041?tmpl=component
DESCRIPTION:<p><strong>KALLELSE TILL SVENSKA IF-BÅTFÖRBUNDETS ÅRSMÖTE</strong><br /><br
  />Tid: Lördagen den 1 februari 2020 från klockan 13.00 till 17.00 (cirka)<
 br />Plats: Barken Viking nära Operan. <a href="http://www.barkenviking.com
 " target="_self">http://www.barkenviking.com<br /><span class="address" dir
 ="ltr">Lilla Bommens Torg 10, Gullbergskajen, Göteborg, 411 04, Sverige</sp
 an></a><br /><br />Ring: Karin Hårding 076-6183644 , Fredrik Hansson 076-39
 88863 eller Göran Ejdeling 073-4122616 om ni inte skulle hitta.<br /><br />
 IF-båtförbundet tillhandahåller en enkel lunch till självkostnadspris. För 
 att denna ska kunna förbeställas till rätt antal, är vi tacksamma om att ni
  senast klockan 12.00 onsdagen innan mötet gör en beställning med e-post ti
 ll <a href="mailto:karin.harding@bioenv.gu.se."><joomla-hidden-mail  is-lin
 k="1" is-email="1" first="a2FyaW4uaGFyZGluZw==" last="YmlvZW52Lmd1LnNl" tex
 t="a2FyaW4uaGFyZGluZ0BiaW9lbnYuZ3Uuc2U=" base="" >Den här e-postadressen sk
 yddas mot spambots. Du måste tillåta JavaScript för att se den.</joomla-hid
 den-mail>.</a> Betalning för lunchen sker på plats direkt till restaurangen
 .</p><p>Kallelsen är utsänd med post till IF-båtförbundets ordinarie medlem
 mar, men kan även läsas och laddas ner från <a href="moteshandlingar">https
 ://ifboat.se/moteshandlingar</a> . Man måste vara inloggad som medlem för a
 tt få åtkomst till dokumenten.</p><p>&nbsp;</p> <a href="https://seglaif.se
 /kalender/icalrepeat.detail/2020/02/01/94/-/if-batfoerbundets-arsmoete-geo-
 11-9654026-57-71273041?tmpl=component">This event was imported from: https:
 //seglaif.se/kalender/icalrepeat.detail/2020/02/01/94/-/if-batfoerbundets-a
 rsmoete-geo-11-9654026-57-71273041?tmpl=component</a>
X-ALT-DESC;FMTTYPE=text/html:<p><strong>KALLELSE TILL SVENSKA IF-BÅTFÖRBUNDETS ÅRSMÖTE</strong><br /><br
  />Tid: Lördagen den 1 februari 2020 från klockan 13.00 till 17.00 (cirka)<
 br />Plats: Barken Viking nära Operan. <a href="http://www.barkenviking.com
 " target="_self">http://www.barkenviking.com<br /><span class="address" dir
 ="ltr">Lilla Bommens Torg 10, Gullbergskajen, Göteborg, 411 04, Sverige</sp
 an></a><br /><br />Ring: Karin Hårding 076-6183644 , Fredrik Hansson 076-39
 88863 eller Göran Ejdeling 073-4122616 om ni inte skulle hitta.<br /><br />
 IF-båtförbundet tillhandahåller en enkel lunch till självkostnadspris. För 
 att denna ska kunna förbeställas till rätt antal, är vi tacksamma om att ni
  senast klockan 12.00 onsdagen innan mötet gör en beställning med e-post ti
 ll <a href="mailto:karin.harding@bioenv.gu.se."><joomla-hidden-mail  is-lin
 k="1" is-email="1" first="a2FyaW4uaGFyZGluZw==" last="YmlvZW52Lmd1LnNl" tex
 t="a2FyaW4uaGFyZGluZ0BiaW9lbnYuZ3Uuc2U=" base="" >Den här e-postadressen sk
 yddas mot spambots. Du måste tillåta JavaScript för att se den.</joomla-hid
 den-mail>.</a> Betalning för lunchen sker på plats direkt till restaurangen
 .</p><p>Kallelsen är utsänd med post till IF-båtförbundets ordinarie medlem
 mar, men kan även läsas och laddas ner från <a href="https://seglaif.se/mot
 eshandlingar">https://ifboat.se/moteshandlingar</a> . Man måste vara inlogg
 ad som medlem för att få åtkomst till dokumenten.</p><p>&nbsp;</p> <a href=
 "https://seglaif.se/kalender/icalrepeat.detail/2020/02/01/94/-/if-batfoerbu
 ndets-arsmoete-geo-11-9654026-57-71273041?tmpl=component">This event was im
 ported from: https://seglaif.se/kalender/icalrepeat.detail/2020/02/01/94/-/
 if-batfoerbundets-arsmoete-geo-11-9654026-57-71273041?tmpl=component</a>CONTACT:Karin Hårding 076-6183644
DTSTAMP:20260421T200417
DTSTART;TZID=Europe/Stockholm:20200201T130000
DTEND;TZID=Europe/Stockholm:20200201T170000
SEQUENCE:0
TRANSP:OPAQUE
END:VEVENT
END:VCALENDAR